BEGIN:VCALENDAR
VERSION:2.0
PRODID:-//Menfyd Foundation - ECPv6.15.13//NONSGML v1.0//EN
CALSCALE:GREGORIAN
METHOD:PUBLISH
X-WR-CALNAME:Menfyd Foundation
X-ORIGINAL-URL:https://menfydfoundation.com
X-WR-CALDESC:Events for Menfyd Foundation
REFRESH-INTERVAL;VALUE=DURATION:PT1H
X-Robots-Tag:noindex
X-PUBLISHED-TTL:PT1H
BEGIN:VTIMEZONE
TZID:UTC
BEGIN:STANDARD
TZOFFSETFROM:+0000
TZOFFSETTO:+0000
TZNAME:UTC
DTSTART:20190101T000000
END:STANDARD
END:VTIMEZONE
BEGIN:VEVENT
DTSTART;VALUE=DATE:20200808
DTEND;VALUE=DATE:20200809
DTSTAMP:20260421T224318
CREATED:20250813T144445Z
LAST-MODIFIED:20250818T170522Z
UID:988121-1596844800-1596931199@menfydfoundation.com
SUMMARY:Youth Initiative: COVID-19 Donations
DESCRIPTION:MENFYD Foundation donated hand sanitizers\, Veronica buckets\, soaps and nosemasks to the inhabitants of Akropong-Akuapem to augment the efforts of national response to COVID-19 in the community. \n\n \nCOVID 19 Donations BY Menfyd Foundation 1\n\n \nCOVID 19 Donations BY Menfyd Foundation 2\n\n \nCOVID 19 Donations BY Menfyd Foundation 3\n\n \nCOVID 19 Donations BY Menfyd Foundation 4\n\n \nCOVID 19 Donations BY Menfyd Foundation 5\n\n \nCOVID 19 Donations BY Menfyd Foundation 6\n\n \nCOVID 19 Donations BY Menfyd Foundation 7\n\n \nCOVID 19 Donations BY Menfyd Foundation 8\n\n \nCOVID 19 Donations BY Menfyd Foundation 9\n\n \nCOVID 19 Donations BY Menfyd Foundation
URL:https://menfydfoundation.com/event/covid-19-donations/
LOCATION:East Legon\, Accra
ATTACH;FMTTYPE=image/jpeg:https://menfydfoundation.com/wp-content/uploads/2025/08/COVID-19-Donations-BY-Menfyd-Foundation-5.jpg
END:VEVENT
END:VCALENDAR